{
 "currentVersion": 11.2,
 "cimVersion": "3.2.0",
 "serviceDescription": "",
 "mapName": "Layers",
 "description": "",
 "copyrightText": "",
 "supportsDynamicLayers": true,
 "layers": [
  {
   "id": 1,
   "name": "Extent",
   "parentLayerId": -1,
   "defaultVisibility": true,
   "subLayerIds": null,
   "minScale": 0,
   "maxScale": 0,
   "type": "Feature Layer",
   "geometryType": "esriGeometryPolygon",
   "supportsDynamicLegends": true
  }
 ],
 "tables": [],
 "spatialReference": {
  "wkid": 102715,
  "latestWkid": 2260,
  "xyTolerance": 0.0010240000009536744,
  "zTolerance": 0.001,
  "mTolerance": 0.001,
  "falseX": -17954600,
  "falseY": -46918100,
  "xyUnits": 3048.0060960121928,
  "falseZ": -100000,
  "zUnits": 10000,
  "falseM": -100000,
  "mUnits": 10000
 },
 "singleFusedMapCache": true,
 "tileInfo": {
  "rows": 256,
  "cols": 256,
  "dpi": 96,
  "format": "PNG",
  "compressionQuality": 0,
  "origin": {
   "x": -17954600,
   "y": 1.8705699999999993E7
  },
  "spatialReference": {
   "wkid": 102715,
   "latestWkid": 2260,
   "xyTolerance": 0.0010240000009536744,
   "zTolerance": 2,
   "mTolerance": 2,
   "falseX": -17954600,
   "falseY": -46918100,
   "xyUnits": 1.3725506987923574E8,
   "falseZ": 0,
   "zUnits": 1,
   "falseM": -100000,
   "mUnits": 10000
  },
  "lods": [
   {
    "level": 0,
    "resolution": 13.888888888888888,
    "scale": 16000
   },
   {
    "level": 1,
    "resolution": 8.680555555555555,
    "scale": 10000
   },
   {
    "level": 2,
    "resolution": 6.944444444444444,
    "scale": 8000
   },
   {
    "level": 3,
    "resolution": 3.472222222222222,
    "scale": 4000
   },
   {
    "level": 4,
    "resolution": 1.736111111111111,
    "scale": 2000
   },
   {
    "level": 5,
    "resolution": 0.8680555555555555,
    "scale": 1000
   },
   {
    "level": 6,
    "resolution": 0.43402777777777773,
    "scale": 500
   },
   {
    "level": 7,
    "resolution": 0.21701388888888887,
    "scale": 250
   }
  ]
 },
 "storageInfo": {
  "storageFormat": "esriMapCacheStorageModeCompactV2",
  "packetSize": 128
 },
 "initialExtent": {
  "xmin": 231456.30132005276,
  "ymin": 756913.6583823736,
  "xmax": 1116500.7798665622,
  "ymax": 1461023.296570291,
  "spatialReference": {
   "wkid": 102715,
   "latestWkid": 2260,
   "xyTolerance": 0.0010240000009536744,
   "zTolerance": 0.001,
   "mTolerance": 0.001,
   "falseX": -17954600,
   "falseY": -46918100,
   "xyUnits": 3048.0060960121928,
   "falseZ": -100000,
   "zUnits": 10000,
   "falseM": -100000,
   "mUnits": 10000
  }
 },
 "fullExtent": {
  "xmin": 415719.0787207857,
  "ymin": 789786.2420430705,
  "xmax": 932238.0024658293,
  "ymax": 1428150.7129095942,
  "spatialReference": {
   "wkid": 102715,
   "latestWkid": 2260,
   "xyTolerance": 0.0010240000009536744,
   "zTolerance": 0.001,
   "mTolerance": 0.001,
   "falseX": -17954600,
   "falseY": -46918100,
   "xyUnits": 3048.0060960121928,
   "falseZ": -100000,
   "zUnits": 10000,
   "falseM": -100000,
   "mUnits": 10000
  }
 },
 "datesInUnknownTimezone": false,
 "minScale": 16000,
 "maxScale": 250,
 "units": "esriFeet",
 "supportedImageFormatTypes": "PNG32,PNG24,PNG,JPG,DIB,TIFF,EMF,PS,PDF,GIF,SVG,SVGZ,BMP",
 "documentInfo": {
  "Title": "Map",
  "Author": "",
  "Comments": "",
  "Subject": "",
  "Category": "",
  "Version": "2.6.0",
  "AntialiasingMode": "Fast",
  "TextAntialiasingMode": "Force",
  "Keywords": "tile cache"
 },
 "supportsQueryDomains": true,
 "capabilities": "Map,Query,Data",
 "supportedQueryFormats": "JSON, geoJSON, PBF",
 "exportTilesAllowed": false,
 "referenceScale": 0.0,
 "supportsDatumTransformation": true,
 "archivingInfo": {
  "supportsHistoricMoment": false
 },
 "supportsClipping": true,
 "supportsSpatialFilter": true,
 "supportsTimeRelation": true,
 "supportsQueryDataElements": true,
 "mapUnits": {
  "uwkid": 9003
 },
 "maxRecordCount": 2000,
 "maxImageHeight": 4096,
 "maxImageWidth": 4096,
 "supportedExtensions": "",
 "serviceItemId": "8cab07c41fc14feb919076808e80a5d9"
}
